BEGIN:VCALENDAR
VERSION:2.0
PRODID:-//IDF - IDF is the leading source of scientific and technical expertise for all stakeholders of the dairy chain//Events//EN
CALSCALE:GREGORIAN
METHOD:PUBLISH
BEGIN:VEVENT
UID:22388-fd5092ee52cbb6dfee2410dcb2f83a57@fil-idf.org
DTSTAMP:20260422T101736Z
DTSTART:20220613T000000Z
DTEND:20220613T000000Z
SUMMARY:8th IDF ParaTB Forum
LOCATION:Dublin\, Ireland
DESCRIPTION:The Colloquium organizing committee has once again invited the International Dairy Federation (IDF) to organize the 8th ParaTB Forum.\n\nhttps://fil-idf.org/idf_events/8th-idf-paratb-forum-2/
URL;VALUE=URI:https://fil-idf.org/idf_events/8th-idf-paratb-forum-2/
END:VEVENT
END:VCALENDAR
