BEGIN:VCALENDAR
VERSION:2.0
PRODID:-//IDF - IDF is the leading source of scientific and technical expertise for all stakeholders of the dairy chain//Events//EN
CALSCALE:GREGORIAN
METHOD:PUBLISH
BEGIN:VEVENT
UID:22763-eddcac3aebc3800d668ed2373a4ee72a@fil-idf.org
DTSTAMP:20260420T090858Z
DTSTART:20190921T000000Z
DTEND:20190922T000000Z
SUMMARY:The IDF Dairy Farmers’ Roundtable 2019
LOCATION:Istanbul\, Turkey
DESCRIPTION:&nbsp\; The International Dairy Federation Standing Committee on Farm Management together with the IDF Office is organizing a Dairy Farmers’ Programme to take place as a pre &#8211\; IDF World Dairy Summit event in Istanbul\, Turkey. This event would like to attract dairy farmers that will be attending the IDF World Dairy Summit 2019. Saturday [&hellip\;]\n\nhttps://fil-idf.org/idf_events/the-idf-dairy-farmers-roundtable-2019/
URL;VALUE=URI:https://fil-idf.org/idf_events/the-idf-dairy-farmers-roundtable-2019/
END:VEVENT
END:VCALENDAR
