BEGIN:VCALENDAR
VERSION:2.0
PRODID:-//IDF - IDF is the leading source of scientific and technical expertise for all stakeholders of the dairy chain//Events//EN
CALSCALE:GREGORIAN
METHOD:PUBLISH
BEGIN:VEVENT
UID:22773-a45d906dd8df097f849c3cae37ac4322@fil-idf.org
DTSTAMP:20260421T081709Z
DTSTART:20200609T000000Z
DTEND:20200609T010000Z
SUMMARY:POSTPONEMENT of ICAR/IDF Workshop: Animal-based indicators to promote welfare in dairy cows
LOCATION:Leeuwarden\, The Netherlands
DESCRIPTION:Flyer: ICAR &amp\; IDF Workshop on animal welfare indicators Venue: WTC-Expo in Leeuwarden\, 8914 AT Leeuwarden in Room New York 2. More info Registration: IDF Members willing to attend this workshop for free should contact msanchezmainar@fil-idf.org to check compliance with registration conditions. Submission of abstracts until 15 March: https://www.icar2020.nl/abstracts/ Content and aim of the workshop: Animal [&hellip\;]\n\nhttps://fil-idf.org/idf_events/postponement-of-icar-idf-workshop-animal-based-indicators-to-promote-welfare-in-dairy-cows/
URL;VALUE=URI:https://fil-idf.org/idf_events/postponement-of-icar-idf-workshop-animal-based-indicators-to-promote-welfare-in-dairy-cows/
END:VEVENT
END:VCALENDAR
