BEGIN:VCALENDAR
VERSION:2.0
PRODID:-//IDF - IDF is the leading source of scientific and technical expertise for all stakeholders of the dairy chain//Events//EN
CALSCALE:GREGORIAN
METHOD:PUBLISH
BEGIN:VEVENT
UID:43342-86ffdbbce0e3840f0a44c600bf4dc818@fil-idf.org
DTSTAMP:20260420T090827Z
DTSTART:20231128T000000Z
DTEND:20231129T000000Z
SUMMARY:The IDF Milking Technologies Symposium &#8211\; Online event
LOCATION:On line
DESCRIPTION:The IDF Milking Technologies Symposium will help us to understand and use the latest technologies in milking and to test equipment that can help us in this efficient process.\n\nhttps://fil-idf.org/idf_events/the-idf-milking-technologies-symposium-online-event/
URL;VALUE=URI:https://fil-idf.org/idf_events/the-idf-milking-technologies-symposium-online-event/
END:VEVENT
END:VCALENDAR
