BEGIN:VCALENDAR
VERSION:2.0
PRODID:-//IDF - IDF is the leading source of scientific and technical expertise for all stakeholders of the dairy chain//Events//EN
CALSCALE:GREGORIAN
METHOD:PUBLISH
BEGIN:VEVENT
UID:46852-d774bd68e1e833e1d86a4f98d2d65f8d@fil-idf.org
DTSTAMP:20260421T235913Z
DTSTART:20241015T000000Z
DTEND:20241018T000000Z
SUMMARY:IDF World Dairy Summit 2024
DESCRIPTION:We invite you to join us at the IDF World Dairy Summit 2024. This year\, the vibrant landscape of French dairy will play host to the global dairy community\, fostering invaluable knowledge exchange\, innovation\, and networking opportunities. As we convene in the enchanting city of Paris\, the IDF World Dairy Summit 2024 promises an unparalleled [&hellip\;]\n\nhttps://fil-idf.org/idf_events/world-dairy-summit-2024/
URL;VALUE=URI:https://fil-idf.org/idf_events/world-dairy-summit-2024/
END:VEVENT
END:VCALENDAR
