BEGIN:VCALENDAR
VERSION:2.0
PRODID:-//IDF - IDF is the leading source of scientific and technical expertise for all stakeholders of the dairy chain//Events//EN
CALSCALE:GREGORIAN
METHOD:PUBLISH
BEGIN:VEVENT
UID:48267-4701e2ed388544a84868a58ecac37c4b@fil-idf.org
DTSTAMP:20260421T083132Z
DTSTART:20240626T000000Z
DTEND:20240628T000000Z
SUMMARY:IDF Regional Dairy Conference &#8211\; Asia Pacific 2024 &#8211\; Farmer Centric Innovations in Dairying
LOCATION: Kochi\, India
DESCRIPTION:Embarking on an enriching journey\, the conference commences with a grand inaugural ceremony\, setting the stage for insightful deliberations that will draw leaders and experts from the dairy sector to chart a course for collective action on pertinent issues. The sessions will spotlight farmer-centric innovations in productivity enhancement\, digitalisation\, processing\, testing\, marketing and sustainable dairy [&hellip\;]\n\nhttps://fil-idf.org/idf_events/idf-regional-dairy-conference-asia-pacific-2024-farmer-centric-innovations-in-dairying/
URL;VALUE=URI:https://fil-idf.org/idf_events/idf-regional-dairy-conference-asia-pacific-2024-farmer-centric-innovations-in-dairying/
END:VEVENT
END:VCALENDAR
